BEGIN:VCALENDAR
VERSION:2.0
PRODID:floktu.com
X-WR-TIMEZONE:Australia/Sydney
X-PUBLISHED-TTL:P1W
BEGIN:VEVENT
UID:FloktuEvent30658@floktu.com
DTSTART;TZID=Australia/Sydney:20221027T183000
SEQUENCE:0
TRANSP:OPAQUE
DTEND;TZID=Australia/Sydney:20221027T203000
LOCATION:Cinema Nova\, 380 Lygon Street\, Carlton\, Victoria
SUMMARY:The Road Not Taken (Bitter Rain that I did not consume)
DESCRIPTION:Visit https://mokharyay.floktu.com for more information.
DTSTAMP:20260426T125210Z
END:VEVENT
BEGIN:VTIMEZONE
TZID:Australia/Sydney
X-LIC-LOCATION:Australia/Sydney
END:VTIMEZONE
END:VCALENDAR