BEGIN:VCALENDAR
VERSION:2.0
PRODID:floktu.com
X-PUBLISHED-TTL:P1W
BEGIN:VEVENT
UID:FloktuEvent30658@floktu.com
DTSTART:20221027T073000Z
SEQUENCE:0
TRANSP:OPAQUE
DTEND:20221027T093000Z
LOCATION:Cinema Nova\, 380 Lygon Street\, Carlton\, Victoria
SUMMARY:The Road Not Taken (Bitter Rain that I did not consume)
DESCRIPTION:Visit https://mokharyay.floktu.com for more information.
DTSTAMP:20260426T125307Z
END:VEVENT
END:VCALENDAR